BEGIN:VCALENDAR
VERSION:2.0
PRODID:-//Edred - ECPv6.0.0.1//NONSGML v1.0//EN
CALSCALE:GREGORIAN
METHOD:PUBLISH
X-WR-CALNAME:Edred
X-ORIGINAL-URL:https://edred.org
X-WR-CALDESC:Events for Edred
REFRESH-INTERVAL;VALUE=DURATION:PT1H
X-Robots-Tag:noindex
X-PUBLISHED-TTL:PT1H
BEGIN:VTIMEZONE
TZID:America/Chicago
BEGIN:DAYLIGHT
TZOFFSETFROM:-0600
TZOFFSETTO:-0500
TZNAME:CDT
DTSTART:20230312T080000
END:DAYLIGHT
BEGIN:STANDARD
TZOFFSETFROM:-0500
TZOFFSETTO:-0600
TZNAME:CST
DTSTART:20231105T070000
END:STANDARD
END:VTIMEZONE
BEGIN:VEVENT
DTSTART;TZID=America/Chicago:20230501T100000
DTEND;TZID=America/Chicago:20230501T110000
DTSTAMP:20260422T221107
CREATED:20230427T002624Z
LAST-MODIFIED:20230427T003608Z
UID:2019-1682935200-1682938800@edred.org
SUMMARY:Legislative Discussion with Senator Ram Villivalam
DESCRIPTION:Let’s Talk Legislation with Senator Ram Villivalam \nMonday May 1st\, 3-4pm – Zoom \nRegister Here \nJoin us this May for a robust conversation with\, ED-RED legislator\, Senator Ram Villivalam on his legislative proposals and initiatives including Comprehensive Personal and Sexual Health Education and Standards\, Mandates Review Committee\, and many others!
URL:https://edred.org/event/legislative-discussion-with-senator-ram-villivalam/
LOCATION:IL
ORGANIZER;CN="ED-RED":MAILTO:arabed@ed-red.org
END:VEVENT
END:VCALENDAR