BEGIN:VCALENDAR
VERSION:2.0
PRODID:-//Edred - ECPv6.0.0.1//NONSGML v1.0//EN
CALSCALE:GREGORIAN
METHOD:PUBLISH
X-ORIGINAL-URL:https://edred.org
X-WR-CALDESC:Events for Edred
REFRESH-INTERVAL;VALUE=DURATION:PT1H
X-Robots-Tag:noindex
X-PUBLISHED-TTL:PT1H
BEGIN:VTIMEZONE
TZID:America/Chicago
BEGIN:DAYLIGHT
TZOFFSETFROM:-0600
TZOFFSETTO:-0500
TZNAME:CDT
DTSTART:20230312T080000
END:DAYLIGHT
BEGIN:STANDARD
TZOFFSETFROM:-0500
TZOFFSETTO:-0600
TZNAME:CST
DTSTART:20231105T070000
END:STANDARD
END:VTIMEZONE
BEGIN:VEVENT
DTSTART;TZID=America/Chicago:20230524T130000
DTEND;TZID=America/Chicago:20230524T140000
DTSTAMP:20260422T221109
CREATED:20230427T003311Z
LAST-MODIFIED:20230427T003526Z
UID:2021-1684933200-1684936800@edred.org
SUMMARY:Legislative Session Wrap-Up
DESCRIPTION:End of Session Legislative Wrap-Up  \nWednesday\, May 24th\n6:00 – 7:00 PM\nRegister Here!  \nWith the General Assembly adjourning on Friday\, May 19th\, our Executive Director will provide members with a wrap up of the 103rd legislative session! This evening meeting will be held over Zoom.
URL:https://edred.org/event/legislative-session-wrap-up/
LOCATION:IL
ORGANIZER;CN="ED-RED":MAILTO:arabed@ed-red.org
END:VEVENT
END:VCALENDAR