BEGIN:VCALENDAR
VERSION:2.0
PRODID:-//Edred - ECPv6.0.0.1//NONSGML v1.0//EN
CALSCALE:GREGORIAN
METHOD:PUBLISH
X-WR-CALNAME:Edred
X-ORIGINAL-URL:https://edred.org
X-WR-CALDESC:Events for Edred
REFRESH-INTERVAL;VALUE=DURATION:PT1H
X-Robots-Tag:noindex
X-PUBLISHED-TTL:PT1H
BEGIN:VTIMEZONE
TZID:America/Chicago
BEGIN:DAYLIGHT
TZOFFSETFROM:-0600
TZOFFSETTO:-0500
TZNAME:CDT
DTSTART:20230312T080000
END:DAYLIGHT
BEGIN:STANDARD
TZOFFSETFROM:-0500
TZOFFSETTO:-0600
TZNAME:CST
DTSTART:20231105T070000
END:STANDARD
END:VTIMEZONE
BEGIN:VEVENT
DTSTART;TZID=America/Chicago:20230803T033000
DTEND;TZID=America/Chicago:20230803T053000
DTSTAMP:20260422T175403
CREATED:20230710T221224Z
LAST-MODIFIED:20230710T222443Z
UID:2082-1691033400-1691040600@edred.org
SUMMARY:Legislative Breakfast
DESCRIPTION:Welcome to the ED-RED Legislative Breakfast! \nJoin us on Thursday\, August 3rd at 8:30 AM for a morning filled with coffee\, networking and discussions on the issues impacting education and our local schools. The Legislative Breakfast will provide you with a chance to connect with other educators\, school board members and local legislators. Don’t miss out on an opportunity to engage with fellow colleagues and leaders to discuss and highlight the needs and issues our schools are facing. \nThis event will be held at Community Consolidated School District 21 – 959 West Dundee Road\, Wheeling\, IL 60090. \nCapacity is limited\, so make sure to secure your ticket today! \nClick here to Register!
URL:https://edred.org/event/legislative-breakfast/
LOCATION:Wheeling 21\, 959 W. Dundee Road\, Wheeling\, IL\, 60090\, United States
END:VEVENT
END:VCALENDAR