BEGIN:VCALENDAR
VERSION:2.0
PRODID:-//Edred - ECPv6.0.0.1//NONSGML v1.0//EN
CALSCALE:GREGORIAN
METHOD:PUBLISH
X-WR-CALNAME:Edred
X-ORIGINAL-URL:https://edred.org
X-WR-CALDESC:Events for Edred
REFRESH-INTERVAL;VALUE=DURATION:PT1H
X-Robots-Tag:noindex
X-PUBLISHED-TTL:PT1H
BEGIN:VTIMEZONE
TZID:America/Chicago
BEGIN:DAYLIGHT
TZOFFSETFROM:-0600
TZOFFSETTO:-0500
TZNAME:CDT
DTSTART:20240310T080000
END:DAYLIGHT
BEGIN:STANDARD
TZOFFSETFROM:-0500
TZOFFSETTO:-0600
TZNAME:CST
DTSTART:20241103T070000
END:STANDARD
END:VTIMEZONE
BEGIN:VEVENT
DTSTART;TZID=America/Chicago:20240612T080000
DTEND;TZID=America/Chicago:20240612T120000
DTSTAMP:20260422T030317
CREATED:20240215T034348Z
LAST-MODIFIED:20240426T203135Z
UID:2330-1718179200-1718193600@edred.org
SUMMARY:ED-RED & Lake ROE Mini-Summit
DESCRIPTION:Click here to get your tickets! \nJoin us on Wednesday\, June 12th for a half-day Mini-Summit at Vernon Hills High School! \nAGENDA \n\n8:00 – 9:00 am – Breakfast & Networking\n9:00 – 9:45 am – Breakout Sessions\n10:00 – 10:45 am – Breakout Sessions\n11:00 – 12:00 pm – Keynote Presentation\n\nBREAKOUT SESSIONS \n\nThe Cultural Journey with Erin Knoll of Schaumburg District 54\nLeadership with Andy DuRoss of Schaumburg 54\nA Superintendent\, Board Member\, and Lawyer Walk into the Board Room with Joe Perkoskiof Robbins Schwartz\, Dr. Pete Hannigan of Hawthorn 73\, Carla Owen of Maine 207\nAI in Education with Eric Santos\nBoard Focus Presentation with Brad Black of HumanEx Ventures\nTalent XII with Matt Munson of HumanEx Ventures – Principals are encouraged to attend this session. Please note that we will send an assessment in advance.\nTIF’s & How to Engage Your Community with Senator Mary Edly-Allen\, Ares Dalianis of Franczek\, Bill Harrison of Wheeling 21\, Cathy Johnson of Mundelein 120\, and Corrin Bennett-Kill of Mt. Prospect 57\nLeading in Our Schools with Lake County Principal of the Year Kari Gedville & Lake County Teacher of the Year Jacob Wollner\nRestorative Practices with Brian Peters and Eric Apgar of Round Lake 116\n\nClick here to get your tickets! \n 
URL:https://edred.org/event/ed-red-lake-roe-mini-summit/
LOCATION:Vernon Hills High School\, 145 Lakeview Pkwy\, Vernon Hills\, IL\, 60061\, United States
END:VEVENT
END:VCALENDAR