BEGIN:VCALENDAR
VERSION:2.0
PRODID:-//Edred - ECPv6.0.0.1//NONSGML v1.0//EN
CALSCALE:GREGORIAN
METHOD:PUBLISH
X-WR-CALNAME:Edred
X-ORIGINAL-URL:https://edred.org
X-WR-CALDESC:Events for Edred
REFRESH-INTERVAL;VALUE=DURATION:PT1H
X-Robots-Tag:noindex
X-PUBLISHED-TTL:PT1H
BEGIN:VTIMEZONE
TZID:America/Chicago
BEGIN:DAYLIGHT
TZOFFSETFROM:-0600
TZOFFSETTO:-0500
TZNAME:CDT
DTSTART:20250309T080000
END:DAYLIGHT
BEGIN:STANDARD
TZOFFSETFROM:-0500
TZOFFSETTO:-0600
TZNAME:CST
DTSTART:20251102T070000
END:STANDARD
END:VTIMEZONE
BEGIN:VEVENT
DTSTART;TZID=America/Chicago:20250606T133000
DTEND;TZID=America/Chicago:20250606T150000
DTSTAMP:20260421T075846
CREATED:20240715T155134Z
LAST-MODIFIED:20240715T155134Z
UID:2561-1749216600-1749222000@edred.org
SUMMARY:June Member Meeting
DESCRIPTION:Hi there\, \nFor members attending in person:\nThis meeting will be held at Wheeling School District 21 – 959 W. Dundee Road in Wheeling. \nFor members attending virtually: \nRegister in advance for this meeting:\nhttps://us02web.zoom.us/meeting/register/tZMrc-ypqz8qGdCCCPFVCZPaBPy_ykCHRish \nAfter registering\, you will receive a confirmation email containing information about joining the meeting.
URL:https://edred.org/event/june-member-meeting-2/
LOCATION:Wheeling 21\, 959 W. Dundee Road\, Wheeling\, IL\, 60090\, United States
ORGANIZER;CN="ED-RED":MAILTO:arabed@ed-red.org
END:VEVENT
END:VCALENDAR