BEGIN:VCALENDAR
VERSION:2.0
PRODID:-//Edred - ECPv6.0.0.1//NONSGML v1.0//EN
CALSCALE:GREGORIAN
METHOD:PUBLISH
X-ORIGINAL-URL:https://edred.org
X-WR-CALDESC:Events for Edred
REFRESH-INTERVAL;VALUE=DURATION:PT1H
X-Robots-Tag:noindex
X-PUBLISHED-TTL:PT1H
BEGIN:VTIMEZONE
TZID:America/Chicago
BEGIN:DAYLIGHT
TZOFFSETFROM:-0600
TZOFFSETTO:-0500
TZNAME:CDT
DTSTART:20250309T080000
END:DAYLIGHT
BEGIN:STANDARD
TZOFFSETFROM:-0500
TZOFFSETTO:-0600
TZNAME:CST
DTSTART:20251102T070000
END:STANDARD
END:VTIMEZONE
BEGIN:VEVENT
DTSTART;TZID=America/Chicago:20250801T080000
DTEND;TZID=America/Chicago:20250801T110000
DTSTAMP:20260421T055256
CREATED:20250709T174540Z
LAST-MODIFIED:20250709T174738Z
UID:2786-1754035200-1754046000@edred.org
SUMMARY:2025 ED-RED Legislative Breakfast
DESCRIPTION:[Click HERE to Register] \nYou’re Invited: 2025 Legislative Breakfast \n📅 Date: Friday\, August 1🕗 Time: 8:00 – 11:00 AM📍 Location: District 21 Community Service Center and Administrative Offices959 W. Dundee Road\, Wheeling\, IL \nJoin us for a morning of coffee\, conversation\, and connection at our annual Legislative Breakfast. This event brings together educators\, school board members\, and local legislators to discuss the key issues affecting Illinois education and our suburban public schools. \nEnjoy breakfast while networking with colleagues and engaging in meaningful discussions that spotlight the challenges and opportunities facing our schools. This is your chance to have your voice heard and be part of the dialogue that drives change. \nSpace is limited — reserve your spot today! \n[Click HERE to Register] \n\nTHANK YOU TO OUR ANNUAL SPONSORS!
URL:https://edred.org/event/2025-ed-red-legislative-breakfast/
LOCATION:Wheeling 21\, 959 W. Dundee Road\, Wheeling\, IL\, 60090\, United States
ORGANIZER;CN="ED-RED":MAILTO:arabed@ed-red.org
END:VEVENT
END:VCALENDAR