BEGIN:VCALENDAR
VERSION:2.0
PRODID:-//Edred - ECPv6.0.0.1//NONSGML v1.0//EN
CALSCALE:GREGORIAN
METHOD:PUBLISH
X-ORIGINAL-URL:https://edred.org
X-WR-CALDESC:Events for Edred
REFRESH-INTERVAL;VALUE=DURATION:PT1H
X-Robots-Tag:noindex
X-PUBLISHED-TTL:PT1H
BEGIN:VTIMEZONE
TZID:America/Chicago
BEGIN:DAYLIGHT
TZOFFSETFROM:-0600
TZOFFSETTO:-0500
TZNAME:CDT
DTSTART:20230312T080000
END:DAYLIGHT
BEGIN:STANDARD
TZOFFSETFROM:-0500
TZOFFSETTO:-0600
TZNAME:CST
DTSTART:20231105T070000
END:STANDARD
END:VTIMEZONE
BEGIN:VEVENT
DTSTART;TZID=America/Chicago:20231006T063000
DTEND;TZID=America/Chicago:20231006T093000
DTSTAMP:20260422T132234
CREATED:20230906T044441Z
LAST-MODIFIED:20230906T044441Z
UID:2140-1696573800-1696584600@edred.org
SUMMARY:Annual Kick-Off Luncheon
DESCRIPTION:REGISTER HERE \nJoin us for our Annual Kick-off Luncheon as we celebrate the start of this legislative session! This year we are excited to announce our 2023-2024 ED-RED Legislative Priorities\, honoring our Education Champion and Legislator of the Year\, and a keynote presentation on AI in Education: Past\, Present\, and Future by Eric Santos of the Learning Technology Center. \nWe look forward to an engaging afternoon with our members\, local legislators and sponsors! \nPlease note the new location for the Kick-Off Luncheon: The Westin Chicago North Shore located at 601 N. Milwaukee Ave. Wheeling\, IL 60090.
URL:https://edred.org/event/annual-kick-off-luncheon-2/
LOCATION:The Westin Chicago North Shore\, 601 N. Milwaukee Ave.\, Wheeling\, IL\, 60090\, United States
ORGANIZER;CN="ED-RED":MAILTO:arabed@ed-red.org
END:VEVENT
BEGIN:VEVENT
DTSTART;TZID=America/Chicago:20231018T090000
DTEND;TZID=America/Chicago:20231018T100000
DTSTAMP:20260422T132234
CREATED:20231005T014136Z
LAST-MODIFIED:20231005T014424Z
UID:2194-1697619600-1697623200@edred.org
SUMMARY:New Arrivals Conversation with Rep. Fred Crespo
DESCRIPTION:Hi there\, \nYou are invited to a Zoom meeting.\nWhen: Oct 18\, 2023 02:00 PM Central Time (US and Canada) \nRegister in advance for this meeting: CLICK HERE \nAfter registering\, you will receive a confirmation email containing information about joining the meeting.
URL:https://edred.org/event/new-arrivals-conversation-with-rep-fred-crespo/
LOCATION:Zoom Video Conference\, IL\, United States
END:VEVENT
END:VCALENDAR